BEGIN:VCALENDAR
VERSION:2.0
PRODID:-//MVCCC - ECPv6.15.20//NONSGML v1.0//EN
CALSCALE:GREGORIAN
METHOD:PUBLISH
X-WR-CALNAME:MVCCC
X-ORIGINAL-URL:https://mvccc.org
X-WR-CALDESC:Events for MVCCC
REFRESH-INTERVAL;VALUE=DURATION:PT1H
X-Robots-Tag:noindex
X-PUBLISHED-TTL:PT1H
BEGIN:VTIMEZONE
TZID:America/Los_Angeles
BEGIN:DAYLIGHT
TZOFFSETFROM:-0800
TZOFFSETTO:-0700
TZNAME:PDT
DTSTART:20220313T100000
END:DAYLIGHT
BEGIN:STANDARD
TZOFFSETFROM:-0700
TZOFFSETTO:-0800
TZNAME:PST
DTSTART:20221106T090000
END:STANDARD
BEGIN:DAYLIGHT
TZOFFSETFROM:-0800
TZOFFSETTO:-0700
TZNAME:PDT
DTSTART:20230312T100000
END:DAYLIGHT
BEGIN:STANDARD
TZOFFSETFROM:-0700
TZOFFSETTO:-0800
TZNAME:PST
DTSTART:20231105T090000
END:STANDARD
BEGIN:DAYLIGHT
TZOFFSETFROM:-0800
TZOFFSETTO:-0700
TZNAME:PDT
DTSTART:20240310T100000
END:DAYLIGHT
BEGIN:STANDARD
TZOFFSETFROM:-0700
TZOFFSETTO:-0800
TZNAME:PST
DTSTART:20241103T090000
END:STANDARD
END:VTIMEZONE
BEGIN:VEVENT
DTSTART;VALUE=DATE:20230730
DTEND;VALUE=DATE:20230805
DTSTAMP:20260420T085408
CREATED:20230625T185520Z
LAST-MODIFIED:20230625T192015Z
UID:26796-1690675200-1691193599@mvccc.org
SUMMARY:BAAYF青少年夏令營
DESCRIPTION:BAAYF (灣區聯合青少年團契) 將於 7/30 到 8/4 在 Alliance Redwoods Conference Campgrounds 舉辦青少年夏令營，使基督信仰改變他們年 輕的生命。 \n鼓勵教會 6 年級到 12 年級的學生參加。 \n請家長於 6/30 前向 劉秀慧 (Karen) 姐妹報名。 \n每人報名費 $400 元。
URL:https://mvccc.org/event/%e9%9d%92%e5%b0%91%e5%b9%b4%e5%a4%8f%e4%bb%a4%e7%87%9f/
LOCATION:Alliance Redwoods Conference Campgrounds\, 6250 Bohemian Hwy\, Occidental\, CA\, CA 95465\, United States
END:VEVENT
END:VCALENDAR