BEGIN:VCALENDAR
VERSION:2.0
PRODID:-//MVCCC - ECPv6.15.20//NONSGML v1.0//EN
CALSCALE:GREGORIAN
METHOD:PUBLISH
X-ORIGINAL-URL:https://mvccc.org
X-WR-CALDESC:Events for MVCCC
REFRESH-INTERVAL;VALUE=DURATION:PT1H
X-Robots-Tag:noindex
X-PUBLISHED-TTL:PT1H
BEGIN:VTIMEZONE
TZID:America/Los_Angeles
BEGIN:DAYLIGHT
TZOFFSETFROM:-0800
TZOFFSETTO:-0700
TZNAME:PDT
DTSTART:20240310T100000
END:DAYLIGHT
BEGIN:STANDARD
TZOFFSETFROM:-0700
TZOFFSETTO:-0800
TZNAME:PST
DTSTART:20241103T090000
END:STANDARD
BEGIN:DAYLIGHT
TZOFFSETFROM:-0800
TZOFFSETTO:-0700
TZNAME:PDT
DTSTART:20250309T100000
END:DAYLIGHT
BEGIN:STANDARD
TZOFFSETFROM:-0700
TZOFFSETTO:-0800
TZNAME:PST
DTSTART:20251102T090000
END:STANDARD
BEGIN:DAYLIGHT
TZOFFSETFROM:-0800
TZOFFSETTO:-0700
TZNAME:PDT
DTSTART:20260308T100000
END:DAYLIGHT
BEGIN:STANDARD
TZOFFSETFROM:-0700
TZOFFSETTO:-0800
TZNAME:PST
DTSTART:20261101T090000
END:STANDARD
BEGIN:DAYLIGHT
TZOFFSETFROM:-0800
TZOFFSETTO:-0700
TZNAME:PDT
DTSTART:20270314T100000
END:DAYLIGHT
BEGIN:STANDARD
TZOFFSETFROM:-0700
TZOFFSETTO:-0800
TZNAME:PST
DTSTART:20271107T090000
END:STANDARD
END:VTIMEZONE
BEGIN:VEVENT
DTSTART;TZID=America/Los_Angeles:20250906T183000
DTEND;TZID=America/Los_Angeles:20260530T203000
DTSTAMP:20260420T015853
CREATED:20250817T212911Z
LAST-MODIFIED:20250817T213621Z
UID:27610-1757183400-1780173000@mvccc.org
SUMMARY:Awana 2025-2026
DESCRIPTION:Awana 提供兒童和青少年在有趣的環境下，透過學習聖經\, 使兒童認識愛他們的主耶穌、學習靠聖經的教導過著得勝的生活並訓練分享福音。Awana 於9 月 6 日開課直到 2026 年 5 月，每週六下午 6:30pm 至\n8:30pm 上課。歡迎弟兄姐妹邀請鄰居或朋友年齡在 3 歲至 6 年級之間的孩子參加。請上https://forms.gle/KecgTwBVtAGsBcwe6 網址註冊。 \n每个小朋友報名費$95。詳情請聯絡鄭夏宇或蘭海弟兄。
URL:https://mvccc.org/event/awana-2025-2026/
LOCATION:山景城中國基督教會\, 175 East Dana Street\, Mountain View\, CA\, 94041\, United States
END:VEVENT
BEGIN:VEVENT
DTSTART;TZID=America/Los_Angeles:20260117T183000
DTEND;TZID=America/Los_Angeles:20260328T210000
DTSTAMP:20260420T015853
CREATED:20251215T004236Z
LAST-MODIFIED:20260112T073723Z
UID:27769-1768674600-1774731600@mvccc.org
SUMMARY:2026第一季度『初信造就』課程
DESCRIPTION:2026 第一季度『初信造就』課程將於1 月 3 日開始由楊東牧師每週六晚六時30分在教會舉辦\, 希望最近受洗的弟兄姐妹參加這個學習\,幫助基督徒建立穩固的信仰根基\,包括認識基督、讀經禱告、教會生活、事奉參與、傳揚福音等內容\,目標是讓初信者從「認識」到「追隨」基督\,並在日常生活中操練信仰\,過討神喜悅的生活。報名請與楊東牧師聯繫。
URL:https://mvccc.org/event/%e5%88%9d%e4%bf%a1%e9%80%a0%e5%b0%b1%e7%8f%ad/
LOCATION:山景城中國基督教會\, 175 East Dana Street\, Mountain View\, CA\, 94041\, United States
END:VEVENT
BEGIN:VEVENT
DTSTART;TZID=America/Los_Angeles:20260118T100000
DTEND;TZID=America/Los_Angeles:20260329T230000
DTSTAMP:20260420T015853
CREATED:20251215T003656Z
LAST-MODIFIED:20260112T073638Z
UID:27767-1768730400-1774825200@mvccc.org
SUMMARY:2026第一季度『成人主日學』
DESCRIPTION:第一季度將於 1 月 4 日開始由劉剛弟兄帶領查考『保羅書信(上)』，瞭解保羅生平，認識保羅書信中的基要真理與應用原則，並在聖靈的帶領下，活出神在基督耶穌裡為我們所定的旨意。這門課會講使徒行傳中保羅三次宣教和三次宣教中的 6 封保羅書信：加拉太書，帖撒羅尼迦前后書，哥林多前后書和羅馬書。
URL:https://mvccc.org/event/2026%e7%ac%ac%e4%b8%80%e5%ad%a3%e5%ba%a6%e6%95%99%e6%9c%83%e6%88%90%e4%ba%ba%e4%b8%bb%e6%97%a5%e5%ad%b8/
LOCATION:山景城中國基督教會\, 175 East Dana Street\, Mountain View\, CA\, 94041\, United States
END:VEVENT
BEGIN:VEVENT
DTSTART;TZID=America/Los_Angeles:20260403T190000
DTEND;TZID=America/Los_Angeles:20260403T213000
DTSTAMP:20260420T015853
CREATED:20260402T161840Z
LAST-MODIFIED:20260402T162411Z
UID:27916-1775242800-1775251800@mvccc.org
SUMMARY:受難節晚上7:00pm中英文聯合崇拜
DESCRIPTION:4/03 週五受難節晚上 7:00pm 有中英文聯合崇拜\, 紀念主耶穌為我們釘十架\, 流出寶血洗淨我們的罪。教會並於下週日(4/05) 慶祝復活節。請弟兄姐妹邀請朋友一起參加慶祝。4/04下週六Awana、查經小組暫停。
URL:https://mvccc.org/event/%e5%8f%97%e9%9b%a3%e7%af%80%e6%99%9a%e4%b8%8a700pm%e4%b8%ad%e8%8b%b1%e6%96%87%e8%81%af%e5%90%88%e5%b4%87%e6%8b%9c/
LOCATION:山景城中國基督教會\, 175 East Dana Street\, Mountain View\, CA\, 94041\, United States
END:VEVENT
BEGIN:VEVENT
DTSTART;TZID=America/Los_Angeles:20260405T080000
DTEND;TZID=America/Los_Angeles:20260628T170000
DTSTAMP:20260420T015853
CREATED:20260317T062317Z
LAST-MODIFIED:20260317T062317Z
UID:27900-1775376000-1782666000@mvccc.org
SUMMARY:教會第二季度的成人主日學從04/05到06/28開設《登山寶訓》課程
DESCRIPTION:教會第二季度的成人主日學從04/05到06/28開設《登山寶訓》課程。《登山寶訓》是主耶穌最著名、也是最完整的一篇教導。在這段信息中，耶穌向門徒們揭示了天國子民的生命樣式與價值觀，要更新我們的生命，使我們在日常生活中活出基督的樣式。如果有任何問題，請聯繫楊牧師。
URL:https://mvccc.org/event/%e6%95%99%e6%9c%83%e7%ac%ac%e4%ba%8c%e5%ad%a3%e5%ba%a6%e7%9a%84%e6%88%90%e4%ba%ba%e4%b8%bb%e6%97%a5%e5%ad%b8%e5%be%9e04-05%e5%88%b006-28%e9%96%8b%e8%a8%ad%e3%80%8a%e7%99%bb%e5%b1%b1%e5%af%b6%e8%a8%93/
LOCATION:山景城中國基督教會\, 175 East Dana Street\, Mountain View\, CA\, 94041\, United States
END:VEVENT
BEGIN:VEVENT
DTSTART;VALUE=DATE:20260419
DTEND;VALUE=DATE:20260420
DTSTAMP:20260420T015853
CREATED:20260324T034850Z
LAST-MODIFIED:20260324T034850Z
UID:27909-1776556800-1776643199@mvccc.org
SUMMARY:會員大會
DESCRIPTION:長執會已經通過下列執事候選人提名：新任執事：劉秀慧姐妹、柯信燕姐妹、何俊弟兄、劉燦濤弟兄、趙明其弟兄。續任執事：張輝弟兄、陳必衷弟兄、傅洪軍弟兄、Charlie Pai 弟兄、蘇垚弟兄。 長執會決定於4月19日舉行會員大會投票表決。請弟兄姐妹在禱告中紀念他們，求神保守並引領他們的服事。如有問題及意見，請洽劉剛弟兄。
URL:https://mvccc.org/event/%e6%9c%83%e5%93%a1%e5%a4%a7%e6%9c%83-3/
LOCATION:CA
END:VEVENT
BEGIN:VEVENT
DTSTART;VALUE=DATE:20260515
DTEND;VALUE=DATE:20260518
DTSTAMP:20260420T015853
CREATED:20260324T034617Z
LAST-MODIFIED:20260324T034617Z
UID:27906-1778803200-1779062399@mvccc.org
SUMMARY:第32届灣區春令營
DESCRIPTION:天路事工聯會主辦第32届灣區春令營Springcamp 將於5/15-5/17 在Mt. Hermon\, Santa Cruz 舉行。我們教會也贊助這項活動。無論你是學生、職青，或是年輕家庭，這裡都準備了豐富的活動和無盡歡樂！這是一場可以翻變人生的事。請弟兄姐妹邀請朋友、同事和鄰居加入。詳情、報名請造訪網站: https://springcamps.org/tlm/。4月1日前享早鳥優惠。
URL:https://mvccc.org/event/%e7%ac%ac32%e5%b1%8a%e7%81%a3%e5%8d%80%e6%98%a5%e4%bb%a4%e7%87%9f/
LOCATION:Mt. Hermon\, Santa Cruz
END:VEVENT
BEGIN:VEVENT
DTSTART;VALUE=DATE:20260713
DTEND;VALUE=DATE:20260718
DTSTAMP:20260420T015853
CREATED:20260306T051725Z
LAST-MODIFIED:20260306T053056Z
UID:27876-1783900800-1784332799@mvccc.org
SUMMARY:VBS暑期聖經學校
DESCRIPTION:加入保罗与地下教会的旅程！ \n在“罗马”主题的暑期圣经学校中，孩子们将亲身探索使徒保罗时代的文化与生活。他们会体验这位圣经英雄所经历的艰难试炼、喜乐得胜，以及充满感恩与泪水的庆祝时刻。 \n通过丰富有趣的活动，神的话语将变得生动而真实——孩子们将一起体验圣经时代的传统习俗、职业生活、美味食物，甚至参与当时的游戏，让信仰在欢乐的互动中活起来！\n		\n							\n						\n				\n2025 VBS報名開始啦！\n			\n			\n					\n	\n現在已經開放註冊，可以填寫頁面下方報名表。 \n招收年齡：4-12歲\n時間：7/13 – 7/17  9am-1pm （提供午餐）\n地址：175 East Dana Street\, Mountain View\, CA 94041\n報名費：9am – 1pm： $100 ｜9am – 4pm：$200 （4/30 前付款享$20优惠）\n付款方式：zelle到 mvccc.donation@gmail.com\, 付款時請備註 “VBS 2026 + 兒童姓名” \nLoading…
URL:https://mvccc.org/event/vbs2026/
LOCATION:山景城中國基督教會\, 175 East Dana Street\, Mountain View\, CA\, 94041\, United States
END:VEVENT
END:VCALENDAR